BEGIN:VCALENDAR
VERSION:2.0
PRODID:-//Wilhelm-Leuschner-Schule Pfungstadt - ECPv6.15.16//NONSGML v1.0//EN
CALSCALE:GREGORIAN
METHOD:PUBLISH
X-ORIGINAL-URL:https://www.wls-pfungstadt.de
X-WR-CALDESC:Veranstaltungen für Wilhelm-Leuschner-Schule Pfungstadt
REFRESH-INTERVAL;VALUE=DURATION:PT1H
X-Robots-Tag:noindex
X-PUBLISHED-TTL:PT1H
BEGIN:VTIMEZONE
TZID:Europe/Paris
BEGIN:DAYLIGHT
TZOFFSETFROM:+0100
TZOFFSETTO:+0200
TZNAME:CEST
DTSTART:20250330T010000
END:DAYLIGHT
BEGIN:STANDARD
TZOFFSETFROM:+0200
TZOFFSETTO:+0100
TZNAME:CET
DTSTART:20251026T010000
END:STANDARD
BEGIN:DAYLIGHT
TZOFFSETFROM:+0100
TZOFFSETTO:+0200
TZNAME:CEST
DTSTART:20260329T010000
END:DAYLIGHT
BEGIN:STANDARD
TZOFFSETFROM:+0200
TZOFFSETTO:+0100
TZNAME:CET
DTSTART:20261025T010000
END:STANDARD
BEGIN:DAYLIGHT
TZOFFSETFROM:+0100
TZOFFSETTO:+0200
TZNAME:CEST
DTSTART:20270328T010000
END:DAYLIGHT
BEGIN:STANDARD
TZOFFSETFROM:+0200
TZOFFSETTO:+0100
TZNAME:CET
DTSTART:20271031T010000
END:STANDARD
END:VTIMEZONE
BEGIN:VEVENT
DTSTART;VALUE=DATE:20260205
DTEND;VALUE=DATE:20260206
DTSTAMP:20260419T234129
CREATED:20260126T095546Z
LAST-MODIFIED:20260127T083508Z
UID:4033-1770249600-1770335999@www.wls-pfungstadt.de
SUMMARY:Schnuppertag Kita Kinder
DESCRIPTION:
URL:https://www.wls-pfungstadt.de/event/kennenlerntag-unterrichtsfrei/
CATEGORIES:Schulveranstaltung
END:VEVENT
BEGIN:VEVENT
DTSTART;VALUE=DATE:20260216
DTEND;VALUE=DATE:20260217
DTSTAMP:20260419T234129
CREATED:20260105T090103Z
LAST-MODIFIED:20260127T083711Z
UID:4196-1771200000-1771286399@www.wls-pfungstadt.de
SUMMARY:Rosenmontag - (beweglicher Ferientag)
DESCRIPTION:Am Rosenmontag und am Faschingsdienstag ist Schulfrei
URL:https://www.wls-pfungstadt.de/event/rosenmontag-und-faschingsdienstag/
CATEGORIES:Ferien
END:VEVENT
BEGIN:VEVENT
DTSTART;VALUE=DATE:20260217
DTEND;VALUE=DATE:20260218
DTSTAMP:20260419T234129
CREATED:20250105T090321Z
LAST-MODIFIED:20260127T083658Z
UID:4199-1771286400-1771372799@www.wls-pfungstadt.de
SUMMARY:Faschingsdienstag - (beweglicher Ferientag)
DESCRIPTION:Am Rosenmontag und am Faschingsdienstag ist Schulfrei
URL:https://www.wls-pfungstadt.de/event/faschingsdienstag/
CATEGORIES:Ferien
END:VEVENT
END:VCALENDAR