BEGIN:VCALENDAR
VERSION:2.0
PRODID:-//Wilhelm-Leuschner-Schule Pfungstadt - ECPv6.15.16//NONSGML v1.0//EN
CALSCALE:GREGORIAN
METHOD:PUBLISH
X-WR-CALNAME:Wilhelm-Leuschner-Schule Pfungstadt
X-ORIGINAL-URL:https://www.wls-pfungstadt.de
X-WR-CALDESC:Veranstaltungen für Wilhelm-Leuschner-Schule Pfungstadt
REFRESH-INTERVAL;VALUE=DURATION:PT1H
X-Robots-Tag:noindex
X-PUBLISHED-TTL:PT1H
BEGIN:VTIMEZONE
TZID:Europe/Paris
BEGIN:DAYLIGHT
TZOFFSETFROM:+0100
TZOFFSETTO:+0200
TZNAME:CEST
DTSTART:20240331T010000
END:DAYLIGHT
BEGIN:STANDARD
TZOFFSETFROM:+0200
TZOFFSETTO:+0100
TZNAME:CET
DTSTART:20241027T010000
END:STANDARD
BEGIN:DAYLIGHT
TZOFFSETFROM:+0100
TZOFFSETTO:+0200
TZNAME:CEST
DTSTART:20250330T010000
END:DAYLIGHT
BEGIN:STANDARD
TZOFFSETFROM:+0200
TZOFFSETTO:+0100
TZNAME:CET
DTSTART:20251026T010000
END:STANDARD
BEGIN:DAYLIGHT
TZOFFSETFROM:+0100
TZOFFSETTO:+0200
TZNAME:CEST
DTSTART:20260329T010000
END:DAYLIGHT
BEGIN:STANDARD
TZOFFSETFROM:+0200
TZOFFSETTO:+0100
TZNAME:CET
DTSTART:20261025T010000
END:STANDARD
END:VTIMEZONE
BEGIN:VEVENT
DTSTART;VALUE=DATE:20251020
DTEND;VALUE=DATE:20251021
DTSTAMP:20260420T063732
CREATED:20250804T142539Z
LAST-MODIFIED:20250804T142546Z
UID:4282-1760918400-1761004799@www.wls-pfungstadt.de
SUMMARY:Pädagogischer Tag (unterrichtsfrei!)
DESCRIPTION:
URL:https://www.wls-pfungstadt.de/event/paedagogischer-tag-unterrichtsfrei-2/
CATEGORIES:Ferien
END:VEVENT
END:VCALENDAR